BEGIN:VCALENDAR
VERSION:2.0
PRODID:-//Squarespace Inc/Squarespace 6//v6//EN
BEGIN:VEVENT
UID:59d475a890badea094f8901b@squarespace.com
DTSTAMP:20171004T054641Z
DTSTART:20180407T060000Z
DTEND:20180407T100000Z
SUMMARY:Ollie Brown Auckland
END:VEVENT
END:VCALENDAR
