BEGIN:VCALENDAR
VERSION:2.0
PRODID:-//Squarespace Inc/Squarespace 6//v6//EN
BEGIN:VEVENT
UID:59d475f82aeba5953f50cb24@squarespace.com
DTSTAMP:20171004T054758Z
DTSTART:20180421T060000Z
DTEND:20180421T100000Z
SUMMARY:King of the Park Auckland
END:VEVENT
END:VCALENDAR
