BEGIN:VCALENDAR
VERSION:2.0
PRODID:-//Squarespace Inc/Squarespace 6//v6//EN
BEGIN:VEVENT
UID:59d475c946c3c43a9b227aa0@squarespace.com
DTSTAMP:20171004T054725Z
DTSTART:20180414T060000Z
DTEND:20180414T100000Z
SUMMARY:Speedfest Huntly
END:VEVENT
END:VCALENDAR
