BEGIN:VCALENDAR
VERSION:2.0
PRODID:-//Squarespace Inc/Squarespace 6//v6//EN
BEGIN:VEVENT
UID:59d47556bce176ae8ee53624@squarespace.com
DTSTAMP:20171004T054530Z
DTSTART:20180303T050000Z
DTEND:20180304T090000Z
SUMMARY:Teams Nationals Auckland
END:VEVENT
END:VCALENDAR
