BEGIN:VCALENDAR
VERSION:2.0
PRODID:-//Squarespace Inc/Squarespace 6//v6//EN
BEGIN:VEVENT
UID:59d47584d55b41a1e9b9b89e@squarespace.com
DTSTAMP:20171004T054606Z
DTSTART:20180317T050000Z
DTEND:20180317T090000Z
SUMMARY:Webster Auckland
END:VEVENT
END:VCALENDAR
