BEGIN:VCALENDAR
VERSION:2.0
PRODID:-//Squarespace Inc/Squarespace 6//v6//EN
BEGIN:VEVENT
UID:59d475057131a5426d0f37a3@squarespace.com
DTSTAMP:20171004T054404Z
DTSTART:20180203T050000Z
DTEND:20180204T090000Z
SUMMARY:NZ Teams Champs PN
END:VEVENT
END:VCALENDAR
