BEGIN:VCALENDAR
VERSION:2.0
PRODID:-//Squarespace Inc/Squarespace 6//v6//EN
BEGIN:VEVENT
UID:59d4753180bd5e1dfaa326cc@squarespace.com
DTSTAMP:20171004T054443Z
DTSTART:20180216T050000Z
DTEND:20180217T090000Z
SUMMARY:North Island Champs PN
END:VEVENT
END:VCALENDAR
