BEGIN:VCALENDAR
VERSION:2.0
PRODID:-//Squarespace Inc/Squarespace 6//v6//EN
BEGIN:VEVENT
UID:5b7102d503ce64d11b846a75@squarespace.com
DTSTAMP:20180813T040247Z
DTSTART:20181103T050000Z
DTEND:20181103T090000Z
SUMMARY:Speedfest Huntly
END:VEVENT
END:VCALENDAR
