BEGIN:VCALENDAR
VERSION:2.0
PRODID:-//Squarespace Inc/Squarespace 6//v6//EN
BEGIN:VEVENT
UID:5b7102f089858355258bcc14@squarespace.com
DTSTAMP:20180813T040314Z
DTSTART:20181110T050000Z
DTEND:20181110T090000Z
SUMMARY:Huntly Opening
END:VEVENT
END:VCALENDAR
