BEGIN:VCALENDAR
VERSION:2.0
PRODID:-//Squarespace Inc/Squarespace 6//v6//EN
BEGIN:VEVENT
UID:5b70fde32b6a28f3a0e21d65@squarespace.com
DTSTAMP:20180813T034250Z
DTSTART:20181006T040000Z
DTEND:20181006T090000Z
SUMMARY:Kihikihi Practice
END:VEVENT
END:VCALENDAR
