BEGIN:VCALENDAR
VERSION:2.0
PRODID:-//Squarespace Inc/Squarespace 6//v6//EN
BEGIN:VEVENT
UID:5b7102ad1ae6cf931ba78617@squarespace.com
DTSTAMP:20180813T040214Z
DTSTART:20181027T050000Z
DTEND:20181027T090000Z
SUMMARY:Kihikihi Opening Meeting
END:VEVENT
END:VCALENDAR
