BEGIN:VCALENDAR
VERSION:2.0
PRODID:-//Squarespace Inc/Squarespace 6//v6//EN
BEGIN:VEVENT
UID:5b71028b8a922ddbba2875c3@squarespace.com
DTSTAMP:20180813T040140Z
DTSTART:20181020T050000Z
DTEND:20181020T090000Z
SUMMARY:Nelson 50th Years
END:VEVENT
END:VCALENDAR
