BEGIN:VCALENDAR
VERSION:2.0
PRODID:-//Squarespace Inc/Squarespace 6//v6//EN
BEGIN:VEVENT
UID:5b7102470ebbe8405ce82d4a@squarespace.com
DTSTAMP:20180813T040102Z
DTSTART:20181013T050000Z
DTEND:20181013T090000Z
SUMMARY:Kihikihi Practice
END:VEVENT
END:VCALENDAR
