BEGIN:VCALENDAR
VERSION:2.0
PRODID:-//Squarespace Inc/Squarespace 6//v6//EN
BEGIN:VEVENT
UID:59d4748c8419c263977bace3@squarespace.com
DTSTAMP:20171004T054202Z
DTSTART:20180102T050000Z
DTEND:20180102T090000Z
SUMMARY:Auckland
END:VEVENT
END:VCALENDAR
