BEGIN:VCALENDAR
VERSION:2.0
PRODID:-//Squarespace Inc/Squarespace 6//v6//EN
BEGIN:VEVENT
UID:59d474e22278e78c2be92664@squarespace.com
DTSTAMP:20171004T054323Z
DTSTART:20180119T050000Z
DTEND:20180120T090000Z
SUMMARY:World 240s Rotorua
END:VEVENT
END:VCALENDAR
