BEGIN:VCALENDAR
VERSION:2.0
PRODID:-//Squarespace Inc/Squarespace 6//v6//EN
BEGIN:VEVENT
UID:59d474b280bd5e1dfaa32306@squarespace.com
DTSTAMP:20171004T054249Z
DTSTART:20180112T050000Z
DTEND:20180114T090000Z
SUMMARY:NZ Champs Auckland
END:VEVENT
END:VCALENDAR
