BEGIN:VCALENDAR
VERSION:2.0
PRODID:-//Squarespace Inc/Squarespace 6//v6//EN
BEGIN:VEVENT
UID:59d4746637c581b9af1de249@squarespace.com
DTSTAMP:20171004T054123Z
DTSTART:20171227T050000Z
DTEND:20171228T090000Z
SUMMARY:NZ GP Rotorua
END:VEVENT
END:VCALENDAR
