BEGIN:VCALENDAR
VERSION:2.0
PRODID:-//Squarespace Inc/Squarespace 6//v6//EN
BEGIN:VEVENT
UID:59d47384bce176ae8ee52a0a@squarespace.com
DTSTAMP:20171004T053738Z
DTSTART:20171104T050000Z
DTEND:20171104T090000Z
SUMMARY:Huntly Opening Night
END:VEVENT
END:VCALENDAR
