BEGIN:VCALENDAR
VERSION:2.0
PRODID:-//Squarespace Inc/Squarespace 6//v6//EN
BEGIN:VEVENT
UID:59d472d2bce176ae8ee52575@squarespace.com
DTSTAMP:20171004T053644Z
DTSTART:20171021T050000Z
DTEND:20171021T090000Z
SUMMARY:Auckland Opening Night
END:VEVENT
END:VCALENDAR
