BEGIN:VCALENDAR
VERSION:2.0
PRODID:-//Squarespace Inc/Squarespace 6//v6//EN
BEGIN:VEVENT
UID:59d4731590badea094f87efa@squarespace.com
DTSTAMP:20171004T053534Z
DTSTART:20171028T050000Z
DTEND:20171028T090000Z
SUMMARY:Auckland Racing
END:VEVENT
END:VCALENDAR
